BEGIN:VCALENDAR
VERSION:2.0
PRODID:-//Plone.org//NONSGML plone.app.event//EN
X-WR-TIMEZONE:Europe/Madrid
BEGIN:VEVENT
SUMMARY:Reunió amb un veí de Canet
DTSTART;TZID=Europe/Madrid;VALUE=DATE-TIME:20250923T113000
DTEND;TZID=Europe/Madrid;VALUE=DATE-TIME:20250923T123000
DTSTAMP;VALUE=DATE-TIME:20260422T222134Z
UID:344dc26df4002ecbde05c9ec65e4ecd2
CREATED;VALUE=DATE-TIME:20250923T000000Z
CATEGORIES:Agenda institucional
LOCATION:Ajuntament de Canet de Mar
URL:https://www.canetdemar.cat/document.php?id=28109
END:VEVENT
END:VCALENDAR