BEGIN:VCALENDAR
VERSION:2.0
PRODID:-//Plone.org//NONSGML plone.app.event//EN
X-WR-TIMEZONE:Europe/Madrid
BEGIN:VEVENT
SUMMARY:Reunió amb treballadors del Tanatori
DTSTART;TZID=Europe/Madrid;VALUE=DATE-TIME:20250922T080000
DTEND;TZID=Europe/Madrid;VALUE=DATE-TIME:20250922T090000
DTSTAMP;VALUE=DATE-TIME:20260423T053808Z
UID:a81a5eb0225988de23dd61b5c7e94f37
CREATED;VALUE=DATE-TIME:20250922T000000Z
CATEGORIES:Agenda institucional
URL:https://www.canetdemar.cat/document.php?id=28105
END:VEVENT
END:VCALENDAR