BEGIN:VCALENDAR
VERSION:2.0
PRODID:-//Plone.org//NONSGML plone.app.event//EN
X-WR-TIMEZONE:Europe/Madrid
BEGIN:VEVENT
SUMMARY:Participació al Consell de Centre del TMC
DTSTART;TZID=Europe/Madrid;VALUE=DATE-TIME:20250920T100000
DTEND;TZID=Europe/Madrid;VALUE=DATE-TIME:20250920T110000
DTSTAMP;VALUE=DATE-TIME:20260423T032130Z
UID:e3c0cb0c7fc0bfc5990d413ff42e3c45
CREATED;VALUE=DATE-TIME:20250920T000000Z
CATEGORIES:Agenda institucional
LOCATION:Sala Odèon del TMC - Plaça 1 d'octubre
URL:https://www.canetdemar.cat/document.php?id=28102
END:VEVENT
END:VCALENDAR