BEGIN:VCALENDAR
VERSION:2.0
PRODID:-//Plone.org//NONSGML plone.app.event//EN
X-WR-TIMEZONE:Europe/Madrid
BEGIN:VEVENT
SUMMARY:Cinema alternatiu: "El gran dictador"
DTSTART;TZID=Europe/Madrid;VALUE=DATE-TIME:20030425T220000
DTEND;TZID=Europe/Madrid;VALUE=DATE-TIME:20030425T230000
DTSTAMP;VALUE=DATE-TIME:20260422T034156Z
UID:81487930e401c116792a5d47fe10b06a
CREATED;VALUE=DATE-TIME:20030425T000000Z
URL:https://www.canetdemar.cat/document.php?id=281
END:VEVENT
END:VCALENDAR