BEGIN:VCALENDAR
VERSION:2.0
PRODID:-//Plone.org//NONSGML plone.app.event//EN
X-WR-TIMEZONE:Europe/Madrid
BEGIN:VEVENT
SUMMARY:Reunió interna Policia Local
DTSTART;TZID=Europe/Madrid;VALUE=DATE-TIME:20250919T113000
DTEND;TZID=Europe/Madrid;VALUE=DATE-TIME:20250919T123000
DTSTAMP;VALUE=DATE-TIME:20260420T101326Z
UID:4b28dad956aceeec8f89037719c796fa
CREATED;VALUE=DATE-TIME:20250919T000000Z
CATEGORIES:Agenda institucional
LOCATION:Despatx de l'alcaldia
URL:https://www.canetdemar.cat/document.php?id=28098
END:VEVENT
END:VCALENDAR