BEGIN:VCALENDAR
VERSION:2.0
PRODID:-//Plone.org//NONSGML plone.app.event//EN
X-WR-TIMEZONE:Europe/Madrid
BEGIN:VEVENT
SUMMARY:Assistència a l'acte inaugural de la Trobada Europea de Contrucció amb Palla 2025
DTSTART;TZID=Europe/Madrid;VALUE=DATE-TIME:20250919T090000
DTEND;TZID=Europe/Madrid;VALUE=DATE-TIME:20250919T100000
DTSTAMP;VALUE=DATE-TIME:20260421T125810Z
UID:2b1262494dfead07a27c7270f5f42e42
CREATED;VALUE=DATE-TIME:20250919T000000Z
CATEGORIES:Agenda institucional
LOCATION:Envelat de Vil·la Flora
URL:https://www.canetdemar.cat/document.php?id=28097
END:VEVENT
END:VCALENDAR