BEGIN:VCALENDAR
VERSION:2.0
PRODID:-//Plone.org//NONSGML plone.app.event//EN
X-WR-TIMEZONE:Europe/Madrid
BEGIN:VEVENT
SUMMARY:Sortida a Tàrrega
DTSTART;TZID=Europe/Madrid;VALUE=DATE-TIME:20251016T070000
DTEND;TZID=Europe/Madrid;VALUE=DATE-TIME:20251016T080000
DTSTAMP;VALUE=DATE-TIME:20260424T143607Z
UID:0ee9897652255f9cdaa00d8928a84e7b
CREATED;VALUE=DATE-TIME:20251016T000000Z
CATEGORIES:Visita guiada
ORGANIZER:Sàlvia Associació de Dones
COMMENT:Preu: 42 &euro; sòcies i acompanyants i 47&euro; no socis.
Durada: De 7h del matí 20 hores.
URL:https://www.canetdemar.cat/document.php?id=28066
END:VEVENT
END:VCALENDAR