BEGIN:VCALENDAR
VERSION:2.0
PRODID:-//Plone.org//NONSGML plone.app.event//EN
X-WR-TIMEZONE:Europe/Madrid
BEGIN:VEVENT
SUMMARY:Modernisme llegit
DTSTART;TZID=Europe/Madrid;VALUE=DATE-TIME:20251004T120000
DTEND;TZID=Europe/Madrid;VALUE=DATE-TIME:20251004T130000
DTSTAMP;VALUE=DATE-TIME:20260422T183223Z
UID:8bfce6d8b0e4da6e75d4f2b269387ae2
CREATED;VALUE=DATE-TIME:20251004T000000Z
CATEGORIES:Literatura
LOCATION:Plaça 1 d'octubre
ORGANIZER:ACPO
COMMENT:Preu: Gratuït
Durada: 1 hora
URL:https://www.canetdemar.cat/document.php?id=28061
END:VEVENT
END:VCALENDAR