BEGIN:VCALENDAR
VERSION:2.0
PRODID:-//Plone.org//NONSGML plone.app.event//EN
X-WR-TIMEZONE:Europe/Madrid
BEGIN:VEVENT
SUMMARY:Fira Modernista | Rutes i visites
DTSTART;TZID=Europe/Madrid;VALUE=DATE-TIME:20251005T000000
DTEND;TZID=Europe/Madrid;VALUE=DATE-TIME:20251005T010000
DTSTAMP;VALUE=DATE-TIME:20260423T033644Z
UID:b4f9fa884a1bf5aa28e38e66c232cc98
CREATED;VALUE=DATE-TIME:20251003T000000Z
URL:https://www.canetdemar.cat/document.php?id=28054
END:VEVENT
END:VCALENDAR