BEGIN:VCALENDAR
VERSION:2.0
PRODID:-//Plone.org//NONSGML plone.app.event//EN
X-WR-TIMEZONE:Europe/Madrid
BEGIN:VEVENT
SUMMARY:Fira Modernista | Exposicions
DTSTART;TZID=Europe/Madrid;VALUE=DATE-TIME:20251005T000000
DTEND;TZID=Europe/Madrid;VALUE=DATE-TIME:20251005T010000
DTSTAMP;VALUE=DATE-TIME:20260422T143619Z
UID:c2f9f778e3cc72c1ca551cc8dea94226
CREATED;VALUE=DATE-TIME:20251003T000000Z
COMMENT:Preu: Gratuit, aforament limitat
URL:https://www.canetdemar.cat/document.php?id=28053
END:VEVENT
END:VCALENDAR