BEGIN:VCALENDAR
VERSION:2.0
PRODID:-//Plone.org//NONSGML plone.app.event//EN
X-WR-TIMEZONE:Europe/Madrid
BEGIN:VEVENT
SUMMARY:Teatre: EL POLOK
DTSTART;TZID=Europe/Madrid;VALUE=DATE-TIME:20250927T200000
DTEND;TZID=Europe/Madrid;VALUE=DATE-TIME:20250927T210000
DTSTAMP;VALUE=DATE-TIME:20260424T212101Z
UID:74bed82049997aceb6915b6ee1f97919
CREATED;VALUE=DATE-TIME:20250927T000000Z
CATEGORIES:Teatre
LOCATION:Sala Odèon del TMC - Plaça 1 d'octubre
URL:https://www.canetdemar.cat/document.php?id=28015
END:VEVENT
END:VCALENDAR