BEGIN:VCALENDAR
VERSION:2.0
PRODID:-//Plone.org//NONSGML plone.app.event//EN
X-WR-TIMEZONE:Europe/Madrid
BEGIN:VEVENT
SUMMARY:Avui llegim!
DTSTART;TZID=Europe/Madrid;VALUE=DATE-TIME:20251022T183000
DTEND;TZID=Europe/Madrid;VALUE=DATE-TIME:20251022T193000
DTSTAMP;VALUE=DATE-TIME:20260422T203734Z
UID:de82b3f288b5944e0e869c9e8115120b
CREATED;VALUE=DATE-TIME:20251022T000000Z
CATEGORIES:Infantils
LOCATION:Biblioteca P. Gual i Pujadas
ORGANIZER:Biblioteca P. Gual i Pujadas
COMMENT:Preu: Gratuït
DESCRIPTION:Quina sorpresa de Debi Gliori
URL:https://www.canetdemar.cat/document.php?id=28011
END:VEVENT
END:VCALENDAR