BEGIN:VCALENDAR
VERSION:2.0
PRODID:-//Plone.org//NONSGML plone.app.event//EN
X-WR-TIMEZONE:Europe/Madrid
BEGIN:VEVENT
SUMMARY:38a Edició del Concurs de Cuita de cargols
DTSTART;TZID=Europe/Madrid;VALUE=DATE-TIME:20250914T180000
DTEND;TZID=Europe/Madrid;VALUE=DATE-TIME:20250914T190000
DTSTAMP;VALUE=DATE-TIME:20260426T032751Z
UID:5eebc8a11a3179a28a4a824aea52e138
CREATED;VALUE=DATE-TIME:20250914T000000Z
LOCATION:Riera Sant Domènec
ORGANIZER:Moixons Llepafils i Àrea de Festes
URL:https://www.canetdemar.cat/document.php?id=27998
END:VEVENT
END:VCALENDAR