BEGIN:VCALENDAR
VERSION:2.0
PRODID:-//Plone.org//NONSGML plone.app.event//EN
X-WR-TIMEZONE:Europe/Madrid
BEGIN:VEVENT
SUMMARY:Homenatge a Ovidi Montllor
DTSTART;TZID=Europe/Madrid;VALUE=DATE-TIME:20250913T193000
DTEND;TZID=Europe/Madrid;VALUE=DATE-TIME:20250913T203000
DTSTAMP;VALUE=DATE-TIME:20260424T131543Z
UID:6872f2df485677bb1a426ebdbaef3d8d
CREATED;VALUE=DATE-TIME:20250913T000000Z
LOCATION:Concentració a la Pl. 1 d'Octubre, davant l'Odèon
ORGANIZER:Associació Cultural ACPO i Àrea de Cultura
URL:https://www.canetdemar.cat/document.php?id=27997
END:VEVENT
END:VCALENDAR