BEGIN:VCALENDAR
VERSION:2.0
PRODID:-//Plone.org//NONSGML plone.app.event//EN
X-WR-TIMEZONE:Europe/Madrid
BEGIN:VEVENT
SUMMARY:Presentació del nou emblema de l'Institut Lluís Domènech i Montaner
DTSTART;TZID=Europe/Madrid;VALUE=DATE-TIME:20250908T120000
DTEND;TZID=Europe/Madrid;VALUE=DATE-TIME:20250908T130000
DTSTAMP;VALUE=DATE-TIME:20260425T222804Z
UID:d8d042168bb1b3a34330dbd66937c4ec
CREATED;VALUE=DATE-TIME:20250908T000000Z
LOCATION:Institut Lluís Domènech
URL:https://www.canetdemar.cat/document.php?id=27984
END:VEVENT
END:VCALENDAR