BEGIN:VCALENDAR
VERSION:2.0
PRODID:-//Plone.org//NONSGML plone.app.event//EN
X-WR-TIMEZONE:Europe/Madrid
BEGIN:VEVENT
SUMMARY:Presentació-Sorpresa dels Geganters de Canet de Mar
DTSTART;TZID=Europe/Madrid;VALUE=DATE-TIME:20250907T133000
DTEND;TZID=Europe/Madrid;VALUE=DATE-TIME:20250907T143000
DTSTAMP;VALUE=DATE-TIME:20260422T183333Z
UID:047104f72f79b68ebdc7c090964cc78f
CREATED;VALUE=DATE-TIME:20250907T000000Z
CATEGORIES:Festa,Infantils
LOCATION:Riera Sant Domènec
ORGANIZER:Colla de Geganters i Àrea de Cultura
COMMENT:Preu: Gratuït
URL:https://www.canetdemar.cat/document.php?id=27981
END:VEVENT
END:VCALENDAR