BEGIN:VCALENDAR
VERSION:2.0
PRODID:-//Plone.org//NONSGML plone.app.event//EN
X-WR-TIMEZONE:Europe/Madrid
BEGIN:VEVENT
SUMMARY:2n Trofeu Misericòrdia Futbol femení. Categories aleví, infantil, cadet i juvenil
DTSTART;TZID=Europe/Madrid;VALUE=DATE-TIME:20250906T100000
DTEND;TZID=Europe/Madrid;VALUE=DATE-TIME:20250906T110000
DTSTAMP;VALUE=DATE-TIME:20260424T162616Z
UID:542ad67eb16b3c0451aaa2147c80aea3
CREATED;VALUE=DATE-TIME:20250906T000000Z
CATEGORIES:Esports
LOCATION:Camp de Futbol Municipal
ORGANIZER:Canet Futbol Club, Àrea d'Esports i Diputació de Barcelona
COMMENT:Preu: Gratuït
URL:https://www.canetdemar.cat/document.php?id=27975
END:VEVENT
END:VCALENDAR