BEGIN:VCALENDAR
VERSION:2.0
PRODID:-//Plone.org//NONSGML plone.app.event//EN
X-WR-TIMEZONE:Europe/Madrid
BEGIN:VEVENT
SUMMARY:Consell Municipal de Cooperació i 25 anys de Projectes Dugú Associació
DTSTART;TZID=Europe/Madrid;VALUE=DATE-TIME:20250905T190000
DTEND;TZID=Europe/Madrid;VALUE=DATE-TIME:20250905T200000
DTSTAMP;VALUE=DATE-TIME:20260425T175337Z
UID:caa5d253aa30b81ae712152b79535041
CREATED;VALUE=DATE-TIME:20250905T000000Z
LOCATION:Sala Cultural Ramon de Capmany
ORGANIZER:Associació Mares Malabaristes, Dugú Associació i Àrea de Serveis Socials
COMMENT:Preu: Gratuït
URL:https://www.canetdemar.cat/document.php?id=27971
END:VEVENT
END:VCALENDAR