BEGIN:VCALENDAR
VERSION:2.0
PRODID:-//Plone.org//NONSGML plone.app.event//EN
X-WR-TIMEZONE:Europe/Madrid
BEGIN:VEVENT
SUMMARY:Nativitat de la Mare de Déu
DTSTART;TZID=Europe/Madrid;VALUE=DATE-TIME:20250908T000000
DTEND;TZID=Europe/Madrid;VALUE=DATE-TIME:20250908T010000
DTSTAMP;VALUE=DATE-TIME:20260423T190438Z
UID:0ed65f5bfa70f68d22012fc4fe98c23e
CREATED;VALUE=DATE-TIME:20250908T000000Z
LOCATION:Santuari de la Mare de Déu de la Misericòrdia
ORGANIZER:Fundació Santuari
DESCRIPTION:Novena de la Mare de Déu de la Misericòrdia
URL:https://www.canetdemar.cat/document.php?id=27955
END:VEVENT
END:VCALENDAR