BEGIN:VCALENDAR
VERSION:2.0
PRODID:-//Plone.org//NONSGML plone.app.event//EN
X-WR-TIMEZONE:Europe/Madrid
BEGIN:VEVENT
SUMMARY:Reunió amb un veí de Canet
DTSTART;TZID=Europe/Madrid;VALUE=DATE-TIME:20250821T133000
DTEND;TZID=Europe/Madrid;VALUE=DATE-TIME:20250821T143000
DTSTAMP;VALUE=DATE-TIME:20260424T220331Z
UID:e995cd397acc4d4266406784b1123fe2
CREATED;VALUE=DATE-TIME:20250821T000000Z
CATEGORIES:Agenda institucional
URL:https://www.canetdemar.cat/document.php?id=27943
END:VEVENT
END:VCALENDAR