BEGIN:VCALENDAR
VERSION:2.0
PRODID:-//Plone.org//NONSGML plone.app.event//EN
X-WR-TIMEZONE:Europe/Madrid
BEGIN:VEVENT
SUMMARY:Trobada amb un veí de Canet
DTSTART;TZID=Europe/Madrid;VALUE=DATE-TIME:20250821T120000
DTEND;TZID=Europe/Madrid;VALUE=DATE-TIME:20250821T130000
DTSTAMP;VALUE=DATE-TIME:20260424T071724Z
UID:95629be04d5857b886865920baf5b02c
CREATED;VALUE=DATE-TIME:20250821T000000Z
CATEGORIES:Agenda institucional
LOCATION:Despatx de l'alcaldia
URL:https://www.canetdemar.cat/document.php?id=27941
END:VEVENT
END:VCALENDAR