BEGIN:VCALENDAR
VERSION:2.0
PRODID:-//Plone.org//NONSGML plone.app.event//EN
X-WR-TIMEZONE:Europe/Madrid
BEGIN:VEVENT
SUMMARY:Reunió amb veïns de Canet
DTSTART;TZID=Europe/Madrid;VALUE=DATE-TIME:20250820T110000
DTEND;TZID=Europe/Madrid;VALUE=DATE-TIME:20250820T120000
DTSTAMP;VALUE=DATE-TIME:20260422T183857Z
UID:79e5ca5bc0efbbe2710e9963f8c309a5
CREATED;VALUE=DATE-TIME:20250820T000000Z
CATEGORIES:Agenda institucional
LOCATION:Despatx de l'alcaldia
URL:https://www.canetdemar.cat/document.php?id=27936
END:VEVENT
END:VCALENDAR