BEGIN:VCALENDAR
VERSION:2.0
PRODID:-//Plone.org//NONSGML plone.app.event//EN
X-WR-TIMEZONE:Europe/Madrid
BEGIN:VEVENT
SUMMARY:Reunió amb veïna de Canet
DTSTART;TZID=Europe/Madrid;VALUE=DATE-TIME:20250819T090000
DTEND;TZID=Europe/Madrid;VALUE=DATE-TIME:20250819T100000
DTSTAMP;VALUE=DATE-TIME:20260423T122140Z
UID:01afbdbcb5e33cb0275ee30a32a031c0
CREATED;VALUE=DATE-TIME:20250819T000000Z
CATEGORIES:Agenda institucional
LOCATION:Despatx de l'alcaldia
URL:https://www.canetdemar.cat/document.php?id=27927
END:VEVENT
END:VCALENDAR