BEGIN:VCALENDAR
VERSION:2.0
PRODID:-//Plone.org//NONSGML plone.app.event//EN
X-WR-TIMEZONE:Europe/Madrid
BEGIN:VEVENT
SUMMARY:Consell de Centre TMC
DTSTART;TZID=Europe/Madrid;VALUE=DATE-TIME:20250920T110000
DTEND;TZID=Europe/Madrid;VALUE=DATE-TIME:20250920T120000
DTSTAMP;VALUE=DATE-TIME:20260424T023943Z
UID:38cb5bba4bd112865c96a46eea22a462
CREATED;VALUE=DATE-TIME:20250920T000000Z
CATEGORIES:Agenda institucional
LOCATION:TMC Odèon
URL:https://www.canetdemar.cat/document.php?id=27908
END:VEVENT
END:VCALENDAR