BEGIN:VCALENDAR
VERSION:2.0
PRODID:-//Plone.org//NONSGML plone.app.event//EN
X-WR-TIMEZONE:Europe/Madrid
BEGIN:VEVENT
SUMMARY:Reunió veïns carrer Emilia Domènech
DTSTART;TZID=Europe/Madrid;VALUE=DATE-TIME:20250909T180000
DTEND;TZID=Europe/Madrid;VALUE=DATE-TIME:20250909T190000
DTSTAMP;VALUE=DATE-TIME:20260421T160341Z
UID:3c408be46f583e963acf5c99409623cd
CREATED;VALUE=DATE-TIME:20250909T000000Z
CATEGORIES:Agenda institucional
LOCATION:Sala annexa Alcaldia
URL:https://www.canetdemar.cat/document.php?id=27903
END:VEVENT
END:VCALENDAR