BEGIN:VCALENDAR
VERSION:2.0
PRODID:-//Plone.org//NONSGML plone.app.event//EN
X-WR-TIMEZONE:Europe/Madrid
BEGIN:VEVENT
SUMMARY:Entrevista Espai Alcaldia de Ràdio Canet
DTSTART;TZID=Europe/Madrid;VALUE=DATE-TIME:20250909T101500
DTEND;TZID=Europe/Madrid;VALUE=DATE-TIME:20250909T111500
DTSTAMP;VALUE=DATE-TIME:20260422T111818Z
UID:6bd4305b056501d531413f05326b704c
CREATED;VALUE=DATE-TIME:20250909T000000Z
CATEGORIES:Agenda institucional
LOCATION:Ràdio Canet
URL:https://www.canetdemar.cat/document.php?id=27902
END:VEVENT
END:VCALENDAR