BEGIN:VCALENDAR
VERSION:2.0
PRODID:-//Plone.org//NONSGML plone.app.event//EN
X-WR-TIMEZONE:Europe/Madrid
BEGIN:VEVENT
SUMMARY:Concert. Més Musicals que Mai. Fool of Music Trio
DTSTART;TZID=Europe/Madrid;VALUE=DATE-TIME:20250907T190000
DTEND;TZID=Europe/Madrid;VALUE=DATE-TIME:20250907T200000
DTSTAMP;VALUE=DATE-TIME:20260424T040917Z
UID:72befd0419524c4ca3d144a3c70a6fdc
CREATED;VALUE=DATE-TIME:20250907T000000Z
CATEGORIES:Música,Agenda institucional
LOCATION:Jardins de Comediants
ORGANIZER:Associació de Jubilats
URL:https://www.canetdemar.cat/document.php?id=27901
END:VEVENT
END:VCALENDAR