BEGIN:VCALENDAR
VERSION:2.0
PRODID:-//Plone.org//NONSGML plone.app.event//EN
X-WR-TIMEZONE:Europe/Madrid
BEGIN:VEVENT
SUMMARY:Reunió interna Alcaldia - Comunicació
DTSTART;TZID=Europe/Madrid;VALUE=DATE-TIME:20250908T093000
DTEND;TZID=Europe/Madrid;VALUE=DATE-TIME:20250908T103000
DTSTAMP;VALUE=DATE-TIME:20260423T071001Z
UID:2c8640fea71b94703d50fbfef9196bca
CREATED;VALUE=DATE-TIME:20250908T000000Z
CATEGORIES:Agenda institucional
LOCATION:Sala annexa Alcaldia
URL:https://www.canetdemar.cat/document.php?id=27900
END:VEVENT
END:VCALENDAR