BEGIN:VCALENDAR
VERSION:2.0
PRODID:-//Plone.org//NONSGML plone.app.event//EN
X-WR-TIMEZONE:Europe/Madrid
BEGIN:VEVENT
SUMMARY:Avui llegim!
DTSTART;TZID=Europe/Madrid;VALUE=DATE-TIME:20250910T183000
DTEND;TZID=Europe/Madrid;VALUE=DATE-TIME:20250910T193000
DTSTAMP;VALUE=DATE-TIME:20260423T140238Z
UID:95c0f48e3a729bd247fd903e0f7996d5
CREATED;VALUE=DATE-TIME:20250910T000000Z
CATEGORIES:Infantils
LOCATION:Biblioteca P. Gual i Pujadas
ORGANIZER:Biblioteca P. Gual i Pujadas
COMMENT:Preu: Gratuït
DESCRIPTION:L'Olivia no vol anar a l'escola d'Elvira Lindo
URL:https://www.canetdemar.cat/document.php?id=27857
END:VEVENT
END:VCALENDAR