BEGIN:VCALENDAR
VERSION:2.0
PRODID:-//Plone.org//NONSGML plone.app.event//EN
X-WR-TIMEZONE:Europe/Madrid
BEGIN:VEVENT
SUMMARY:Donació de sang i plasma
DTSTART;TZID=Europe/Madrid;VALUE=DATE-TIME:20250726T000000
DTEND;TZID=Europe/Madrid;VALUE=DATE-TIME:20250726T010000
DTSTAMP;VALUE=DATE-TIME:20260422T203501Z
UID:fd207a82fac2709b2c0c84b193cc488a
CREATED;VALUE=DATE-TIME:20250726T000000Z
LOCATION:EspaiCaixa Gent Gran - C. Vall, 24 Canet de Mar
ORGANIZER:Banc de Sang
COMMENT:Durada: De 10h a 14h i de 17h a 21h
URL:https://www.canetdemar.cat/document.php?id=27853
END:VEVENT
END:VCALENDAR