BEGIN:VCALENDAR
VERSION:2.0
PRODID:-//Plone.org//NONSGML plone.app.event//EN
X-WR-TIMEZONE:Europe/Madrid
BEGIN:VEVENT
SUMMARY:Reunió amb una veïna de Canet
DTSTART;TZID=Europe/Madrid;VALUE=DATE-TIME:20250808T100000
DTEND;TZID=Europe/Madrid;VALUE=DATE-TIME:20250808T110000
DTSTAMP;VALUE=DATE-TIME:20260422T035215Z
UID:2fa318f0fb0c2b1d430e1b2498e1f9e2
CREATED;VALUE=DATE-TIME:20250808T000000Z
CATEGORIES:Agenda institucional
LOCATION:Despatx de l'alcaldia
URL:https://www.canetdemar.cat/document.php?id=27837
END:VEVENT
END:VCALENDAR