BEGIN:VCALENDAR
VERSION:2.0
PRODID:-//Plone.org//NONSGML plone.app.event//EN
X-WR-TIMEZONE:Europe/Madrid
BEGIN:VEVENT
SUMMARY:Si tu te´n vas. Cia. Pepa Plana
DTSTART;TZID=Europe/Madrid;VALUE=DATE-TIME:20251102T180000
DTEND;TZID=Europe/Madrid;VALUE=DATE-TIME:20251102T190000
DTSTAMP;VALUE=DATE-TIME:20260422T222719Z
UID:1ec404c9bf56e9728f251236244d3c0f
CREATED;VALUE=DATE-TIME:20251102T000000Z
CATEGORIES:Teatre
LOCATION:Sala Odèon del TMC - Plaça 1 d'octubre
ORGANIZER:TMC
COMMENT:Preu: Taquilla: 15&euro; Anticipada: 13 &euro; Abonament: 3TB (3 espectacles de 15&euro;  taquilla: 30 &euro; )
Durada: 70 minuts
DESCRIPTION:CIRC-CLOWN PER ADULTS
URL:https://www.canetdemar.cat/document.php?id=27758
END:VEVENT
END:VCALENDAR