BEGIN:VCALENDAR
VERSION:2.0
PRODID:-//Plone.org//NONSGML plone.app.event//EN
X-WR-TIMEZONE:Europe/Madrid
BEGIN:VEVENT
SUMMARY:Modernisme d'estiueig
DTSTART;TZID=Europe/Madrid;VALUE=DATE-TIME:20250823T190000
DTEND;TZID=Europe/Madrid;VALUE=DATE-TIME:20250823T200000
DTSTAMP;VALUE=DATE-TIME:20260422T164228Z
UID:325215909fcec83af6256aa6d2752e0d
CREATED;VALUE=DATE-TIME:20250823T000000Z
CATEGORIES:Visita guiada
ORGANIZER:Centre d'Estudis Lluís Domènech i Montaner
COMMENT:Preu: 5 &euro;
Durada: 1h 15 m
DESCRIPTION:Arquitectura burgesa i d'estiueig a Canet!
URL:https://www.canetdemar.cat/document.php?id=27741
END:VEVENT
END:VCALENDAR