BEGIN:VCALENDAR
VERSION:2.0
PRODID:-//Plone.org//NONSGML plone.app.event//EN
X-WR-TIMEZONE:Europe/Madrid
BEGIN:VEVENT
SUMMARY:Acte de lliurament de la clau de la ciutat de Lyons a l'Ajuntament de Canet
DTSTART;TZID=Europe/Madrid;VALUE=DATE-TIME:20250619T110000
DTEND;TZID=Europe/Madrid;VALUE=DATE-TIME:20250619T120000
DTSTAMP;VALUE=DATE-TIME:20260422T002541Z
UID:6675cfeeda6b391427c68540316e3647
CREATED;VALUE=DATE-TIME:20250619T000000Z
CATEGORIES:Agenda institucional
LOCATION:Sala de plens
URL:https://www.canetdemar.cat/document.php?id=27723
END:VEVENT
END:VCALENDAR