BEGIN:VCALENDAR
VERSION:2.0
PRODID:-//Plone.org//NONSGML plone.app.event//EN
X-WR-TIMEZONE:Europe/Madrid
BEGIN:VEVENT
SUMMARY:Reunió Fundació Maresme i ajuntament
DTSTART;TZID=Europe/Madrid;VALUE=DATE-TIME:20250616T123000
DTEND;TZID=Europe/Madrid;VALUE=DATE-TIME:20250616T133000
DTSTAMP;VALUE=DATE-TIME:20260424T101500Z
UID:871b0447e75e7945c4ad6039002de570
CREATED;VALUE=DATE-TIME:20250616T000000Z
CATEGORIES:Agenda institucional
LOCATION:Sala annexa Alcaldia
URL:https://www.canetdemar.cat/document.php?id=27717
END:VEVENT
END:VCALENDAR