BEGIN:VCALENDAR
VERSION:2.0
PRODID:-//Plone.org//NONSGML plone.app.event//EN
X-WR-TIMEZONE:Europe/Madrid
BEGIN:VEVENT
SUMMARY:Assistència a la inauguració de la 2a edició de la Vila del Llibre d'Arenys de Mar
DTSTART;TZID=Europe/Madrid;VALUE=DATE-TIME:20250613T190000
DTEND;TZID=Europe/Madrid;VALUE=DATE-TIME:20250613T200000
DTSTAMP;VALUE=DATE-TIME:20260425T192610Z
UID:c56f2ca71550009d3d26888598bf16f8
CREATED;VALUE=DATE-TIME:20250613T000000Z
CATEGORIES:Agenda institucional
LOCATION:Plaça de l'Església d'Arenys de Mar
URL:https://www.canetdemar.cat/document.php?id=27712
END:VEVENT
END:VCALENDAR