BEGIN:VCALENDAR
VERSION:2.0
PRODID:-//Plone.org//NONSGML plone.app.event//EN
X-WR-TIMEZONE:Europe/Madrid
BEGIN:VEVENT
SUMMARY:Educació, municipis i República
DTSTART;TZID=Europe/Madrid;VALUE=DATE-TIME:20070127T000000
DTEND;TZID=Europe/Madrid;VALUE=DATE-TIME:20070127T010000
DTSTAMP;VALUE=DATE-TIME:20260424T211803Z
UID:64a4bcf3513ea7b0834d96c0d48e5018
CREATED;VALUE=DATE-TIME:20070127T000000Z
CATEGORIES:Exposició
LOCATION:Casa museu Domènech i Montaner
ORGANIZER:Àrea de Cultura
COMMENT:Durada: del 27 de gener al 18 de febrer
URL:https://www.canetdemar.cat/document.php?id=2771
END:VEVENT
END:VCALENDAR