BEGIN:VCALENDAR
VERSION:2.0
PRODID:-//Plone.org//NONSGML plone.app.event//EN
X-WR-TIMEZONE:Europe/Madrid
BEGIN:VEVENT
SUMMARY:Exposició d'olis de Mónica Cabello
DTSTART;TZID=Europe/Madrid;VALUE=DATE-TIME:20070126T000000
DTEND;TZID=Europe/Madrid;VALUE=DATE-TIME:20070126T010000
DTSTAMP;VALUE=DATE-TIME:20260422T092715Z
UID:94a601bd99be9dff0caaefe536f8fd45
CREATED;VALUE=DATE-TIME:20070126T000000Z
CATEGORIES:Exposició
LOCATION:Sala municipal d'exposicions
COMMENT:Durada: del 26 de gener al 8 de febrer
URL:https://www.canetdemar.cat/document.php?id=2770
END:VEVENT
END:VCALENDAR