BEGIN:VCALENDAR
VERSION:2.0
PRODID:-//Plone.org//NONSGML plone.app.event//EN
X-WR-TIMEZONE:Europe/Madrid
BEGIN:VEVENT
SUMMARY:Reunió de Seguretat per tractar temàtica ocupacions
DTSTART;TZID=Europe/Madrid;VALUE=DATE-TIME:20250605T120000
DTEND;TZID=Europe/Madrid;VALUE=DATE-TIME:20250605T130000
DTSTAMP;VALUE=DATE-TIME:20260423T034835Z
UID:05ff834a2160471f44a184c4ea8f792d
CREATED;VALUE=DATE-TIME:20250605T000000Z
CATEGORIES:Agenda institucional
URL:https://www.canetdemar.cat/document.php?id=27691
END:VEVENT
END:VCALENDAR