BEGIN:VCALENDAR
VERSION:2.0
PRODID:-//Plone.org//NONSGML plone.app.event//EN
X-WR-TIMEZONE:Europe/Madrid
BEGIN:VEVENT
SUMMARY:Visita obres Placeta Mercè Viader
DTSTART;TZID=Europe/Madrid;VALUE=DATE-TIME:20250605T083000
DTEND;TZID=Europe/Madrid;VALUE=DATE-TIME:20250605T093000
DTSTAMP;VALUE=DATE-TIME:20260425T124139Z
UID:6ea424e2919507bd56e0b1ab6ccb8a3b
CREATED;VALUE=DATE-TIME:20250605T000000Z
CATEGORIES:Agenda institucional
LOCATION:Placeta Mercè Viader
URL:https://www.canetdemar.cat/document.php?id=27689
END:VEVENT
END:VCALENDAR