BEGIN:VCALENDAR
VERSION:2.0
PRODID:-//Plone.org//NONSGML plone.app.event//EN
X-WR-TIMEZONE:Europe/Madrid
BEGIN:VEVENT
SUMMARY:Reunió interna amb l'àrea d'Educació
DTSTART;TZID=Europe/Madrid;VALUE=DATE-TIME:20250604T133000
DTEND;TZID=Europe/Madrid;VALUE=DATE-TIME:20250604T143000
DTSTAMP;VALUE=DATE-TIME:20260423T104250Z
UID:0e05ee7c00738ee1ca80b1121286f1b8
CREATED;VALUE=DATE-TIME:20250604T000000Z
CATEGORIES:Agenda institucional
LOCATION:Despatx de l'alcaldia
URL:https://www.canetdemar.cat/document.php?id=27687
END:VEVENT
END:VCALENDAR