BEGIN:VCALENDAR
VERSION:2.0
PRODID:-//Plone.org//NONSGML plone.app.event//EN
X-WR-TIMEZONE:Europe/Madrid
BEGIN:VEVENT
SUMMARY:Entrevista Espai Alcaldia de Ràdio Canet
DTSTART;TZID=Europe/Madrid;VALUE=DATE-TIME:20250604T100000
DTEND;TZID=Europe/Madrid;VALUE=DATE-TIME:20250604T110000
DTSTAMP;VALUE=DATE-TIME:20260423T070927Z
UID:dea0859b92a270c4433043ba77255dfa
CREATED;VALUE=DATE-TIME:20250604T000000Z
CATEGORIES:Agenda institucional
LOCATION:Estudis de Ràdio Canet
URL:https://www.canetdemar.cat/document.php?id=27684
END:VEVENT
END:VCALENDAR