BEGIN:VCALENDAR
VERSION:2.0
PRODID:-//Plone.org//NONSGML plone.app.event//EN
X-WR-TIMEZONE:Europe/Madrid
BEGIN:VEVENT
SUMMARY:Reunió amb el Sr.David Agustí, director del SSTT a Barcelona del departament de Presidència de la Generalitat
DTSTART;TZID=Europe/Madrid;VALUE=DATE-TIME:20250603T120000
DTEND;TZID=Europe/Madrid;VALUE=DATE-TIME:20250603T130000
DTSTAMP;VALUE=DATE-TIME:20260424T183023Z
UID:2ff5ca64eac5547a8714291076b95a79
CREATED;VALUE=DATE-TIME:20250603T000000Z
CATEGORIES:Agenda institucional
LOCATION:Despatx de l'alcaldia
URL:https://www.canetdemar.cat/document.php?id=27683
END:VEVENT
END:VCALENDAR