BEGIN:VCALENDAR
VERSION:2.0
PRODID:-//Plone.org//NONSGML plone.app.event//EN
X-WR-TIMEZONE:Europe/Madrid
BEGIN:VEVENT
SUMMARY:Reunió amb el president de CONGIAC
DTSTART;TZID=Europe/Madrid;VALUE=DATE-TIME:20250602T123000
DTEND;TZID=Europe/Madrid;VALUE=DATE-TIME:20250602T133000
DTSTAMP;VALUE=DATE-TIME:20260423T204740Z
UID:e89611388573e9f8de1351677d06095a
CREATED;VALUE=DATE-TIME:20250602T000000Z
CATEGORIES:Agenda institucional
LOCATION:Sala annexa Alcaldia
URL:https://www.canetdemar.cat/document.php?id=27681
END:VEVENT
END:VCALENDAR