BEGIN:VCALENDAR
VERSION:2.0
PRODID:-//Plone.org//NONSGML plone.app.event//EN
X-WR-TIMEZONE:Europe/Madrid
BEGIN:VEVENT
SUMMARY:Passaport de lectura
DTSTART;TZID=Europe/Madrid;VALUE=DATE-TIME:20250616T000000
DTEND;TZID=Europe/Madrid;VALUE=DATE-TIME:20250616T010000
DTSTAMP;VALUE=DATE-TIME:20260425T223059Z
UID:f143142480572e7a30710ca217ee3bd7
CREATED;VALUE=DATE-TIME:20250616T000000Z
LOCATION:Biblioteca P. Gual i Pujadas
ORGANIZER:Biblioteca P. Gual i Pujadas
COMMENT:Durada: del 16 de juny al 19 de setembre de 2025
URL:https://www.canetdemar.cat/document.php?id=27674
END:VEVENT
END:VCALENDAR