BEGIN:VCALENDAR
VERSION:2.0
PRODID:-//Plone.org//NONSGML plone.app.event//EN
X-WR-TIMEZONE:Europe/Madrid
BEGIN:VEVENT
SUMMARY:Avui llegim!
DTSTART;TZID=Europe/Madrid;VALUE=DATE-TIME:20250709T183000
DTEND;TZID=Europe/Madrid;VALUE=DATE-TIME:20250709T193000
DTSTAMP;VALUE=DATE-TIME:20260424T132505Z
UID:7cc40a477eb9ca5d1e0612b4a9f5960a
CREATED;VALUE=DATE-TIME:20250709T000000Z
CATEGORIES:Infantils
LOCATION:Biblioteca P. Gual i Pujadas
ORGANIZER:Biblioteca P. Gual i Pujadas
COMMENT:Preu: Gratuït
DESCRIPTION:El monstre Petarró de Paco Cholbi
URL:https://www.canetdemar.cat/document.php?id=27667
END:VEVENT
END:VCALENDAR