BEGIN:VCALENDAR
VERSION:2.0
PRODID:-//Plone.org//NONSGML plone.app.event//EN
X-WR-TIMEZONE:Europe/Madrid
BEGIN:VEVENT
SUMMARY:Reunió informativa: Amb motiu de les properes obres de millora de l'avinguda Dr Fleming
DTSTART;TZID=Europe/Madrid;VALUE=DATE-TIME:20250618T180000
DTEND;TZID=Europe/Madrid;VALUE=DATE-TIME:20250618T190000
DTSTAMP;VALUE=DATE-TIME:20260421T155653Z
UID:ba3f28914947edec472a23126bca1b51
CREATED;VALUE=DATE-TIME:20250618T000000Z
LOCATION:Aula Magna CRTTT - Escola de Teixits
URL:https://www.canetdemar.cat/document.php?id=27665
END:VEVENT
END:VCALENDAR