BEGIN:VCALENDAR
VERSION:2.0
PRODID:-//Plone.org//NONSGML plone.app.event//EN
X-WR-TIMEZONE:Europe/Madrid
BEGIN:VEVENT
SUMMARY:L'hora del conte. Amb Paku Pillo
DTSTART;TZID=Europe/Madrid;VALUE=DATE-TIME:20070127T120000
DTEND;TZID=Europe/Madrid;VALUE=DATE-TIME:20070127T130000
DTSTAMP;VALUE=DATE-TIME:20260425T211210Z
UID:47e4b8373bb1cef2b253e79826d2acee
CREATED;VALUE=DATE-TIME:20070127T000000Z
CATEGORIES:Infantils
LOCATION:Sala infantil de la Biblioteca
ORGANIZER:Biblioteca P. Gual i Pujadas
URL:https://www.canetdemar.cat/document.php?id=2766
END:VEVENT
END:VCALENDAR