BEGIN:VCALENDAR
VERSION:2.0
PRODID:-//Plone.org//NONSGML plone.app.event//EN
X-WR-TIMEZONE:Europe/Madrid
BEGIN:VEVENT
SUMMARY:Hora del conte: Contes mullats, esquitxats i salats a càrrec de la Cia. Alma i la mar de contes
DTSTART;TZID=Europe/Madrid;VALUE=DATE-TIME:20250711T180000
DTEND;TZID=Europe/Madrid;VALUE=DATE-TIME:20250711T190000
DTSTAMP;VALUE=DATE-TIME:20260421T110949Z
UID:781dffeaf264ba5d871d63c3902dd755
CREATED;VALUE=DATE-TIME:20250711T000000Z
CATEGORIES:Infantils
LOCATION:Biblioteca P. Gual i Pujadas
ORGANIZER:Biblioteca P. Gual i Pujadas
COMMENT:Preu: Gratuït
URL:https://www.canetdemar.cat/document.php?id=27653
END:VEVENT
END:VCALENDAR