BEGIN:VCALENDAR
VERSION:2.0
PRODID:-//Plone.org//NONSGML plone.app.event//EN
X-WR-TIMEZONE:Europe/Madrid
BEGIN:VEVENT
SUMMARY:Anem a esquiar!
DTSTART;TZID=Europe/Madrid;VALUE=DATE-TIME:20070127T060000
DTEND;TZID=Europe/Madrid;VALUE=DATE-TIME:20070127T070000
DTSTAMP;VALUE=DATE-TIME:20260422T002355Z
UID:cf1314cac3988032824dc26eb566bb34
CREATED;VALUE=DATE-TIME:20070127T000000Z
LOCATION:sortida a les 6.30 hores des de la parada de bus de Comediants
ORGANIZER:Àrea de Joventut
COMMENT:Preu: 26 euros. Inclou forfait, assegurança, monitor i transport
DESCRIPTION:A l'estació de Porté Puymorens
URL:https://www.canetdemar.cat/document.php?id=2765
END:VEVENT
END:VCALENDAR